BEGIN:VCALENDAR
VERSION:2.0
PRODID:icalendar-ruby
CALSCALE:GREGORIAN
METHOD:PUBLISH
BEGIN:VEVENT
DTSTAMP:20260420T143427Z
UID:150-908143@vinecommunity.church
DTSTART:20260509T123000Z
DTEND:20260510T020000Z
CLASS:PUBLIC
CREATED:20260414T154112
DESCRIPTION:Men\, join us for our second of two discussion on the topic of 
 "Grace Filled Sexual Purity." Pastor Jordan will continue instructing us f
 rom the Word on how we can be pure of heart so we might see God! \nBreakf
 ast will be served at 7:30a
LAST-MODIFIED:20260414T154112
LOCATION:1035 SE Bluestem Rd\, El Dorado\, KS 67042
SUMMARY:Men's Breakfast
URL;VALUE=URI:https://vinecommunity.church/events/mens-breakfast--150/2026-
 05-09
ATTACH;FILENAME=0q4CX__U5cE.jpg;FMTTYPE=image/jpeg:https://dq5pwpg1q8ru0.cl
 oudfront.net/2026/04/14/20/41/12/598e3069-194c-42da-b9d7-5ac1f71de9de/0q4C
 X__U5cE.jpg
END:VEVENT
END:VCALENDAR
