BEGIN:VCALENDAR
VERSION:2.0
PRODID:icalendar-ruby
CALSCALE:GREGORIAN
METHOD:PUBLISH
BEGIN:VEVENT
DTSTAMP:20260420T144000Z
UID:152-908145@vinecommunity.church
DTSTART:20260502T143000Z
DTEND:20260510T040000Z
CLASS:PUBLIC
CREATED:20260414T154346
DESCRIPTION:Ladies\, join us as we continue our study through the book of 1
  Peter. \nWe will meet in the fellowship hall at 9:30am. 
LAST-MODIFIED:20260414T154346
LOCATION:1035 SE Bluestem Rd\, El Dorado\, KS 67042
SUMMARY:Ladies Bible Study 
URL;VALUE=URI:https://vinecommunity.church/events/ladies-bible-study--152/2
 026-05-02
ATTACH;FILENAME=5rH9-min-min.jpg;FMTTYPE=image/jpeg:https://dq5pwpg1q8ru0.c
 loudfront.net/2026/04/14/20/43/46/da262633-98c9-4e70-b6f9-9f456e6789f8/5rH
 9-min-min.jpg
END:VEVENT
END:VCALENDAR
