BEGIN:VCALENDAR
VERSION:2.0
PRODID:icalendar-ruby
CALSCALE:GREGORIAN
METHOD:PUBLISH
BEGIN:VEVENT
DTSTAMP:20260420T161707Z
UID:156-908149@vinecommunity.church
DTSTART:20260708T233000Z
DTEND:20260709T020000Z
CLASS:PUBLIC
CREATED:20260414T154759
DESCRIPTION:Join us throughout the summer months on the second Wednesday of
  each month for a time of fun and fellowship at North Main Park. \nThis i
 s a great opportunity to fellowship with fellow believers at VCC and kids 
 to play together while Vine Groups are on break. 
LAST-MODIFIED:20260414T154759
LOCATION:900-1036 N Main St\, El Dorado\, KS 67042
SUMMARY:Koinonia at North Main Park
URL;VALUE=URI:https://vinecommunity.church/events/koinonia-at-north-main-pa
 rk--156/2026-07-08
ATTACH;FILENAME=IMG_1255.jpg;FMTTYPE=image/jpeg:https://dq5pwpg1q8ru0.cloud
 front.net/2026/04/14/20/47/59/f9c3ddfc-3444-4b35-8a8a-d0008c9c2f31/IMG_125
 5.jpg
END:VEVENT
END:VCALENDAR
