BEGIN:VCALENDAR
VERSION:2.0
PRODID:icalendar-ruby
CALSCALE:GREGORIAN
METHOD:PUBLISH
BEGIN:VEVENT
DTSTAMP:20260420T161240Z
UID:155-908148@vinecommunity.church
DTSTART:20260610T233000Z
DTEND:20260611T020000Z
CLASS:PUBLIC
CREATED:20260414T154719
DESCRIPTION:Join us throughout the summer months on the second Wednesday of
  each month for a time of fun and fellowship at North Main Park. \nThis i
 s a great opportunity to fellowship with fellow believers at VCC and kids 
 to play together while Vine Groups are on break. 
LAST-MODIFIED:20260414T154719
LOCATION:900-1036 N Main St\, El Dorado\, KS 67042
SUMMARY:Koinonia at North Main Park
URL;VALUE=URI:https://vinecommunity.church/events/koinonia-at-north-main-pa
 rk--155/2026-06-10
ATTACH;FILENAME=IMG_1255.jpg;FMTTYPE=image/jpeg:https://dq5pwpg1q8ru0.cloud
 front.net/2026/04/14/20/47/19/3de7508f-ab77-446a-a6bf-b04bec378407/IMG_125
 5.jpg
END:VEVENT
END:VCALENDAR
