BEGIN:VCALENDAR
VERSION:2.0
PRODID:icalendar-ruby
CALSCALE:GREGORIAN
METHOD:PUBLISH
BEGIN:VEVENT
DTSTAMP:20260420T143040Z
UID:149-908142@vinecommunity.church
DTSTART:20260503T230000Z
DTEND:20260504T010000Z
CLASS:PUBLIC
CREATED:20260414T154024
DESCRIPTION:Please be in prayer for the men as they wrap up the second seme
 ster of Timothy Track. Timothy Track Semester 3 will resume again in the f
 all. 
LAST-MODIFIED:20260414T154024
LOCATION:1035 SE Bluestem Rd\, El Dorado\, KS 67042
SUMMARY:Final Timothy Track
URL;VALUE=URI:https://vinecommunity.church/events/final-timothy-track/2026-
 05-03
ATTACH;FILENAME=euprCXIZhas.jpg;FMTTYPE=image/jpeg:https://dq5pwpg1q8ru0.cl
 oudfront.net/2026/04/14/20/40/23/3a80b3e1-5443-4fee-be6b-260fcc25a750/eupr
 CXIZhas.jpg
END:VEVENT
END:VCALENDAR
