BEGIN:VCALENDAR
VERSION:2.0
PRODID:icalendar-ruby
CALSCALE:GREGORIAN
METHOD:PUBLISH
BEGIN:VEVENT
DTSTAMP:20260420T161306Z
UID:157-908150@vinecommunity.church
DTSTART:20260812T233000Z
DTEND:20260813T020000Z
CLASS:PUBLIC
CREATED:20260414T154846
DESCRIPTION:Join us for the last Koinonia before Vine Groups start back up 
 again!  \nThis is a great opportunity to fellowship with fellow believers
  at VCC and kids to play together while Vine Groups are on break. 
LAST-MODIFIED:20260414T154846
LOCATION:900-1036 N Main St\, El Dorado\, KS 67042
SUMMARY:Final Koinonia at North Main Park
URL;VALUE=URI:https://vinecommunity.church/events/final-koinonia-at-north-m
 ain-park/2026-08-12
ATTACH;FILENAME=IMG_1255.jpg;FMTTYPE=image/jpeg:https://dq5pwpg1q8ru0.cloud
 front.net/2026/04/14/20/48/46/59e67d02-88a2-40f1-9270-bbe86d1b1195/IMG_125
 5.jpg
END:VEVENT
END:VCALENDAR
