BEGIN:VCALENDAR
VERSION:2.0
PRODID:icalendar-ruby
CALSCALE:GREGORIAN
METHOD:PUBLISH
BEGIN:VEVENT
DTSTAMP:20260420T143626Z
UID:151-908144@vinecommunity.church
DTSTART:20260513T230000Z
DTEND:20260514T020000Z
CLASS:PUBLIC
CREATED:20260414T154211
DESCRIPTION:Another year of Vine Group comes to a close\, but not without a
  celebration first! \nReach out to your Vine Group leader to find out wha
 t your group will be doing to close out the year! \nVine Groups will resu
 me again in the fall. 
LAST-MODIFIED:20260414T154211
LOCATION:
SUMMARY:End of Year Vine Group Fellowship Night
URL;VALUE=URI:https://vinecommunity.church/events/end-of-year-vine-group-fe
 llowship-night/2026-05-13
ATTACH;FILENAME=F_ilCik66Hg.jpg;FMTTYPE=image/jpeg:https://dq5pwpg1q8ru0.cl
 oudfront.net/2026/04/14/20/42/10/b0499f86-d635-4a26-bc8b-e6b6c9afa51d/F_il
 Cik66Hg.jpg
END:VEVENT
END:VCALENDAR
