BEGIN:VCALENDAR
VERSION:2.0
PRODID:icalendar-ruby
CALSCALE:GREGORIAN
METHOD:PUBLISH
BEGIN:VEVENT
DTSTAMP:20260420T161707Z
UID:158-908151@vinecommunity.church
DTSTART:20260621T163000Z
DTEND:20260622T183000Z
CLASS:PUBLIC
CREATED:20260414T154941
DESCRIPTION:Join us for a time of food and fellowship directly following mo
 rning worship!\nStay tuned for more details on what to bring. 
LAST-MODIFIED:20260414T154941
LOCATION:1035 SE Bluestem Rd\, El Dorado\, KS 67042
SUMMARY:Church Potluck
URL;VALUE=URI:https://vinecommunity.church/events/church-potluck--158/2026-
 06-21
ATTACH;FILENAME=WRP_1409.jpg;FMTTYPE=image/jpeg:https://dq5pwpg1q8ru0.cloud
 front.net/2026/04/14/20/49/41/7687a237-33a7-4300-95b6-a7d6274f982b/WRP_140
 9.jpg
END:VEVENT
END:VCALENDAR
