BEGIN:VCALENDAR
VERSION:2.0
PRODID:icalendar-ruby
CALSCALE:GREGORIAN
METHOD:PUBLISH
BEGIN:VEVENT
DTSTAMP:20260420T143259Z
UID:147-908140@vinecommunity.church
DTSTART:20260426T163000Z
DTEND:20260426T183000Z
CLASS:PUBLIC
CREATED:20260414T153849
DESCRIPTION:Join us for our monthly potluck directly following morning wors
 hip. \nEVERYONE: Main dish\nA thru K: dessert\nL thru Z: side dish
LAST-MODIFIED:20260414T153849
LOCATION:1035 SE Bluestem Rd\, El Dorado\, KS 67042
SUMMARY:Church Potluck
URL;VALUE=URI:https://vinecommunity.church/events/church-potluck--147/2026-
 04-26
ATTACH;FILENAME=WRP_1409.jpg;FMTTYPE=image/jpeg:https://dq5pwpg1q8ru0.cloud
 front.net/2026/04/14/20/38/49/4988de25-375e-47ed-8694-2e4e2467253e/WRP_140
 9.jpg
END:VEVENT
END:VCALENDAR
