BEGIN:VCALENDAR
VERSION:2.0
PRODID:icalendar-ruby
CALSCALE:GREGORIAN
METHOD:PUBLISH
BEGIN:VEVENT
DTSTAMP:20260420T161707Z
UID:154-908147@vinecommunity.church
DTSTART:20260607T140000Z
DTEND:20260607T150000Z
CLASS:PUBLIC
CREATED:20260414T154555
DESCRIPTION:Join us on the first Sunday of the month for a time of breakfas
 t and fellowship before morning worship. Breakfast will be served at 9:00a
LAST-MODIFIED:20260414T154555
LOCATION:1035 SE Bluestem Rd\, El Dorado\, KS 67042
SUMMARY:Breakfast & Fellowship 
URL;VALUE=URI:https://vinecommunity.church/events/breakfast-fellowship--154
 /2026-06-07
ATTACH;FILENAME=WRP_1374.jpg;FMTTYPE=image/jpeg:https://dq5pwpg1q8ru0.cloud
 front.net/2026/04/14/20/45/55/60b45198-9843-4a8b-815a-3f122398fc0e/WRP_137
 4.jpg
END:VEVENT
END:VCALENDAR
