BEGIN:VCALENDAR
VERSION:2.0
PRODID:icalendar-ruby
CALSCALE:GREGORIAN
METHOD:PUBLISH
BEGIN:VEVENT
DTSTAMP:20260420T143540Z
UID:148-908141@vinecommunity.church
DTSTART:20260503T140000Z
DTEND:20260503T150000Z
CLASS:PUBLIC
CREATED:20260414T153927
DESCRIPTION:Join us on the first Sunday of the month as we have a time of b
 reakfast and fellowship prior to morning worship.\nBreakfast will be serve
 d in the fellowship hall at 9:00a
LAST-MODIFIED:20260414T153927
LOCATION:1035 SE Bluestem Rd\, El Dorado\, KS 67042
SUMMARY:Breakfast & Fellowship 
URL;VALUE=URI:https://vinecommunity.church/events/breakfast-fellowship--148
 /2026-05-03
ATTACH;FILENAME=WRP_1374.jpg;FMTTYPE=image/jpeg:https://dq5pwpg1q8ru0.cloud
 front.net/2026/04/14/20/39/27/88c215fa-8296-4819-8ea8-a9da4c6c56be/WRP_137
 4.jpg
END:VEVENT
END:VCALENDAR
