BEGIN:VCALENDAR
VERSION:2.0
PRODID:icalendar-ruby
CALSCALE:GREGORIAN
METHOD:PUBLISH
BEGIN:VEVENT
DTSTAMP:20260420T030237Z
UID:159-908152@vinecommunity.church
DTSTART:20260426T150000Z
DTEND:20260426T163000Z
CLASS:PUBLIC
CREATED:20260414T155355
DESCRIPTION:Join us for Sunday morning worship as we start the worship serv
 ice by celebrating the ordinance of baptism! \nWhat a joy and privilege t
 o celebrate God bringing another one of his sheep out of the kingdom of da
 rkness and into the kingdom of His beloved Son!
LAST-MODIFIED:20260414T155355
LOCATION:1035 SE Bluestem Rd\, El Dorado\, KS 67042
SUMMARY:Baptism Sunday 
URL;VALUE=URI:https://vinecommunity.church/events/baptism-sunday--159/2026-
 04-26
ATTACH;FILENAME=Baptism-Sunday-celebration-with-water-ripple.png;FMTTYPE=im
 age/png:https://dq5pwpg1q8ru0.cloudfront.net/2026/04/14/20/53/55/6c25df27-
 12d1-4781-a769-a71e84ddc928/Baptism-Sunday-celebration-with-water-ripple.p
 ng
END:VEVENT
END:VCALENDAR
